BEGIN:VCALENDAR
VERSION:2.0
PRODID:-//Idaho Traditional Bowhunters - ECPv6.15.20//NONSGML v1.0//EN
CALSCALE:GREGORIAN
METHOD:PUBLISH
X-WR-CALNAME:Idaho Traditional Bowhunters
X-ORIGINAL-URL:https://idahotraditionalbowhunters.com
X-WR-CALDESC:Events for Idaho Traditional Bowhunters
REFRESH-INTERVAL;VALUE=DURATION:PT1H
X-Robots-Tag:noindex
X-PUBLISHED-TTL:PT1H
BEGIN:VTIMEZONE
TZID:America/Boise
BEGIN:DAYLIGHT
TZOFFSETFROM:-0700
TZOFFSETTO:-0600
TZNAME:MDT
DTSTART:20240310T090000
END:DAYLIGHT
BEGIN:STANDARD
TZOFFSETFROM:-0600
TZOFFSETTO:-0700
TZNAME:MST
DTSTART:20241103T080000
END:STANDARD
BEGIN:DAYLIGHT
TZOFFSETFROM:-0700
TZOFFSETTO:-0600
TZNAME:MDT
DTSTART:20250309T090000
END:DAYLIGHT
BEGIN:STANDARD
TZOFFSETFROM:-0600
TZOFFSETTO:-0700
TZNAME:MST
DTSTART:20251102T080000
END:STANDARD
BEGIN:DAYLIGHT
TZOFFSETFROM:-0700
TZOFFSETTO:-0600
TZNAME:MDT
DTSTART:20260308T090000
END:DAYLIGHT
BEGIN:STANDARD
TZOFFSETFROM:-0600
TZOFFSETTO:-0700
TZNAME:MST
DTSTART:20261101T080000
END:STANDARD
BEGIN:DAYLIGHT
TZOFFSETFROM:-0700
TZOFFSETTO:-0600
TZNAME:MDT
DTSTART:20270314T090000
END:DAYLIGHT
BEGIN:STANDARD
TZOFFSETFROM:-0600
TZOFFSETTO:-0700
TZNAME:MST
DTSTART:20271107T080000
END:STANDARD
END:VTIMEZONE
BEGIN:VEVENT
DTSTART;TZID=America/Boise:20260421T190000
DTEND;TZID=America/Boise:20260421T210000
DTSTAMP:20260422T064516
CREATED:20260314T224736Z
LAST-MODIFIED:20260314T224836Z
UID:7606-1776798000-1776805200@idahotraditionalbowhunters.com
SUMMARY:Traditional 3D Archery Tournament
DESCRIPTION:Stick & Sage is located approx. 3 miles north of the intersection of Highway 20 and Scout Lake road near Camp Sherman. Heading East: 3 miles past Suttle Lake Lodge turn left at sign. Heading West: 1/4 mile past Metolius/Camp Sherman road turn right at sign. For more info contact: Ed @ 541-647-0114.
URL:https://idahotraditionalbowhunters.com/events/traditional-3d-archery-tournament/
LOCATION:Archery Central\, 6611 Cleveland Blvd\, Caldwell\, ID\, 83607\, United States
CATEGORIES:Public Event,Traditional Archery Shoot
ATTACH;FMTTYPE=image/jpeg:https://idahotraditionalbowhunters.com/wp-content/uploads/2026/03/641543334_10237871219897261_77294695175596144_n-1.jpg
ORGANIZER;CN="Archery Central":MAILTO:archerycentral@yahoo.com
END:VEVENT
BEGIN:VEVENT
DTSTART;TZID=America/Boise:20260411T080000
DTEND;TZID=America/Boise:20260412T160000
DTSTAMP:20260422T064516
CREATED:20260103T013452Z
LAST-MODIFIED:20260107T042335Z
UID:7110-1775894400-1776009600@idahotraditionalbowhunters.com
SUMMARY:2026 Celilo Bowmen Traditional Shoot
DESCRIPTION:Stick & Sage is located approx. 3 miles north of the intersection of Highway 20 and Scout Lake road near Camp Sherman. Heading East: 3 miles past Suttle Lake Lodge turn left at sign. Heading West: 1/4 mile past Metolius/Camp Sherman road turn right at sign. For more info contact: Ed @ 541-647-0114.
URL:https://idahotraditionalbowhunters.com/events/celilo-bowmen-traditional-shoot-2/
LOCATION:The Dalles\, 5321 Hawley Steele Rd.\, The Dalles\, OR\, 90758\, United States
CATEGORIES:Traditional Archery Shoot
ATTACH;FMTTYPE=image/jpeg:https://idahotraditionalbowhunters.com/wp-content/uploads/2026/01/Celilo-Trad-Shoot-Thumbnail.jpg
ORGANIZER;CN="Celilo Bowmen":MAILTO:celilobowmenarchers@gmail.com
END:VEVENT
BEGIN:VEVENT
DTSTART;TZID=America/Boise:20260409T183000
DTEND;TZID=America/Boise:20260409T193000
DTSTAMP:20260422T064516
CREATED:20260330T015247Z
LAST-MODIFIED:20260410T015545Z
UID:7725-1775759400-1775763000@idahotraditionalbowhunters.com
SUMMARY:ITB April Club Meeting 2026
DESCRIPTION:Stick & Sage is located approx. 3 miles north of the intersection of Highway 20 and Scout Lake road near Camp Sherman. Heading East: 3 miles past Suttle Lake Lodge turn left at sign. Heading West: 1/4 mile past Metolius/Camp Sherman road turn right at sign. For more info contact: Ed @ 541-647-0114.
URL:https://idahotraditionalbowhunters.com/events/itb-april-club-meeting-2026/
LOCATION:Zoom Meeting – Digital
CATEGORIES:ITB Club Meeting
ATTACH;FMTTYPE=image/jpeg:https://idahotraditionalbowhunters.com/wp-content/uploads/2026/01/Club-Meeting-V1-1.jpg
END:VEVENT
BEGIN:VEVENT
DTSTART;TZID=America/Boise:20260328T080000
DTEND;TZID=America/Boise:20260329T170000
DTSTAMP:20260422T064516
CREATED:20260103T013026Z
LAST-MODIFIED:20260103T013252Z
UID:7107-1774684800-1774803600@idahotraditionalbowhunters.com
SUMMARY:2026 Colyak Traditional Shoot
DESCRIPTION:Stick & Sage is located approx. 3 miles north of the intersection of Highway 20 and Scout Lake road near Camp Sherman. Heading East: 3 miles past Suttle Lake Lodge turn left at sign. Heading West: 1/4 mile past Metolius/Camp Sherman road turn right at sign. For more info contact: Ed @ 541-647-0114.
URL:https://idahotraditionalbowhunters.com/events/2026-colyak-traditional-shoot/
LOCATION:Richland\, WA
CATEGORIES:Traditional Archery Shoot
ORGANIZER;CN="Colyak Bowhunters":MAILTO:president@colyakbowhunters.com
END:VEVENT
BEGIN:VEVENT
DTSTART;VALUE=DATE:20260328
DTEND;VALUE=DATE:20260329
DTSTAMP:20260422T064516
CREATED:20260109T015815Z
LAST-MODIFIED:20260314T031714Z
UID:7189-1774656000-1774742399@idahotraditionalbowhunters.com
SUMMARY:2026 BowBirds & Litter Pickup
DESCRIPTION:Stick & Sage is located approx. 3 miles north of the intersection of Highway 20 and Scout Lake road near Camp Sherman. Heading East: 3 miles past Suttle Lake Lodge turn left at sign. Heading West: 1/4 mile past Metolius/Camp Sherman road turn right at sign. For more info contact: Ed @ 541-647-0114.
URL:https://idahotraditionalbowhunters.com/events/2026-bowbirds-litter-pickup/
LOCATION:Stutzman Property\, 8425 Dutch Lane\, Payette\, 83661\, United States
CATEGORIES:ITB Club Event
ATTACH;FMTTYPE=image/jpeg:https://idahotraditionalbowhunters.com/wp-content/uploads/2026/01/BowBirds-2026-Flyer-Art-V1.jpg
END:VEVENT
BEGIN:VEVENT
DTSTART;TZID=America/Boise:20260320T080000
DTEND;TZID=America/Boise:20260322T170000
DTSTAMP:20260422T064516
CREATED:20260118T202704Z
LAST-MODIFIED:20260129T224307Z
UID:7219-1773993600-1774198800@idahotraditionalbowhunters.com
SUMMARY:2026 Bison Shoot
DESCRIPTION:Stick & Sage is located approx. 3 miles north of the intersection of Highway 20 and Scout Lake road near Camp Sherman. Heading East: 3 miles past Suttle Lake Lodge turn left at sign. Heading West: 1/4 mile past Metolius/Camp Sherman road turn right at sign. For more info contact: Ed @ 541-647-0114.
URL:https://idahotraditionalbowhunters.com/events/2026-bison-shoot/
LOCATION:H2H Bison Ranch\, 30585 S. Ditmore Rd.\, Worley\, ID\, 83876\, United States
CATEGORIES:Traditional Archery Shoot
ATTACH;FMTTYPE=image/jpeg:https://idahotraditionalbowhunters.com/wp-content/uploads/2026/01/619619756_10240057461884682_1326789955953449773_n.jpg
END:VEVENT
BEGIN:VEVENT
DTSTART;TZID=America/Boise:20260307T080000
DTEND;TZID=America/Boise:20260308T170000
DTSTAMP:20260422T064516
CREATED:20260103T012722Z
LAST-MODIFIED:20260127T232259Z
UID:7103-1772870400-1772989200@idahotraditionalbowhunters.com
SUMMARY:2026 Spring Fling Trad Shoot
DESCRIPTION:Stick & Sage is located approx. 3 miles north of the intersection of Highway 20 and Scout Lake road near Camp Sherman. Heading East: 3 miles past Suttle Lake Lodge turn left at sign. Heading West: 1/4 mile past Metolius/Camp Sherman road turn right at sign. For more info contact: Ed @ 541-647-0114.
URL:https://idahotraditionalbowhunters.com/events/2026-spring-fling-trad-shoot/
LOCATION:New Plymouth\, Idaho\, 4986 NW 1st Ave\, New Plymouth\, ID\, 83655\, United States
CATEGORIES:ITB Club Event,Traditional Archery Shoot
ATTACH;FMTTYPE=image/jpeg:https://idahotraditionalbowhunters.com/wp-content/uploads/2026/01/Spring-Fling-2026-Flyer-V1.jpg
END:VEVENT
BEGIN:VEVENT
DTSTART;TZID=America/Boise:20260219T183000
DTEND;TZID=America/Boise:20260219T193000
DTSTAMP:20260422T064516
CREATED:20251105T234716Z
LAST-MODIFIED:20260220T034952Z
UID:6861-1771525800-1771529400@idahotraditionalbowhunters.com
SUMMARY:ITB February Club Meeting 2026
DESCRIPTION:Stick & Sage is located approx. 3 miles north of the intersection of Highway 20 and Scout Lake road near Camp Sherman. Heading East: 3 miles past Suttle Lake Lodge turn left at sign. Heading West: 1/4 mile past Metolius/Camp Sherman road turn right at sign. For more info contact: Ed @ 541-647-0114.
URL:https://idahotraditionalbowhunters.com/events/itb-november-club-meeting-2025/
LOCATION:Zoom Meeting – Digital
CATEGORIES:ITB Club Meeting
ATTACH;FMTTYPE=image/jpeg:https://idahotraditionalbowhunters.com/wp-content/uploads/2026/01/Club-Meeting-V1-1.jpg
END:VEVENT
BEGIN:VEVENT
DTSTART;TZID=America/Boise:20260213T080000
DTEND;TZID=America/Boise:20260215T170000
DTSTAMP:20260422T064516
CREATED:20251022T232701Z
LAST-MODIFIED:20260118T205150Z
UID:6790-1770969600-1771174800@idahotraditionalbowhunters.com
SUMMARY:2026 Northwest Traditional Archers Expo
DESCRIPTION:Stick & Sage is located approx. 3 miles north of the intersection of Highway 20 and Scout Lake road near Camp Sherman. Heading East: 3 miles past Suttle Lake Lodge turn left at sign. Heading West: 1/4 mile past Metolius/Camp Sherman road turn right at sign. For more info contact: Ed @ 541-647-0114.
URL:https://idahotraditionalbowhunters.com/events/2026-northwest-traditional-archers-expo/
LOCATION:Pendleton Convention Center\, 1601 Westgate\, Pendleton\, OR\, 97801\, United States
CATEGORIES:ITB Club Event,Public Event
ATTACH;FMTTYPE=image/jpeg:https://idahotraditionalbowhunters.com/wp-content/uploads/2025/10/NWTAE-Trad-Bow-Magazine-Ad-Art-V1-1.jpg
END:VEVENT
BEGIN:VEVENT
DTSTART;TZID=America/Boise:20260207T110000
DTEND;TZID=America/Boise:20260207T170000
DTSTAMP:20260422T064516
CREATED:20260103T012542Z
LAST-MODIFIED:20260107T041925Z
UID:7101-1770462000-1770483600@idahotraditionalbowhunters.com
SUMMARY:2026 Traditional Madness Tournament
DESCRIPTION:Stick & Sage is located approx. 3 miles north of the intersection of Highway 20 and Scout Lake road near Camp Sherman. Heading East: 3 miles past Suttle Lake Lodge turn left at sign. Heading West: 1/4 mile past Metolius/Camp Sherman road turn right at sign. For more info contact: Ed @ 541-647-0114.
URL:https://idahotraditionalbowhunters.com/events/2026-traditional-madness-tournament/
LOCATION:Nampa Bow Chiefs Indoor Range\, 222 W. Railroad Ave\, Nampa\, ID\, 83687\, United States
CATEGORIES:Public Event,Traditional Archery Shoot
ATTACH;FMTTYPE=image/jpeg:https://idahotraditionalbowhunters.com/wp-content/uploads/2026/01/Traditional-Madness-2026-flyer-rev3b-Thumbnail.jpg
ORGANIZER;CN="Nampa Bow Chiefs":MAILTO:nampabowchiefs@gmail.com
END:VEVENT
BEGIN:VEVENT
DTSTART;TZID=America/Boise:20260108T183000
DTEND;TZID=America/Boise:20260108T193000
DTSTAMP:20260422T064516
CREATED:20260106T202853Z
LAST-MODIFIED:20260109T224127Z
UID:7149-1767897000-1767900600@idahotraditionalbowhunters.com
SUMMARY:2026 ITB Officer Elections
DESCRIPTION:Stick & Sage is located approx. 3 miles north of the intersection of Highway 20 and Scout Lake road near Camp Sherman. Heading East: 3 miles past Suttle Lake Lodge turn left at sign. Heading West: 1/4 mile past Metolius/Camp Sherman road turn right at sign. For more info contact: Ed @ 541-647-0114.
URL:https://idahotraditionalbowhunters.com/events/2026-itb-officer-elections/
LOCATION:Zoom Meeting – Digital
CATEGORIES:ITB Club Meeting
ATTACH;FMTTYPE=image/jpeg:https://idahotraditionalbowhunters.com/wp-content/uploads/2026/01/Club-Meeting-V1-1.jpg
END:VEVENT
BEGIN:VEVENT
DTSTART;TZID=America/Boise:20251216T190000
DTEND;TZID=America/Boise:20251216T203000
DTSTAMP:20260422T064516
CREATED:20251113T234437Z
LAST-MODIFIED:20251113T234437Z
UID:6913-1765911600-1765917000@idahotraditionalbowhunters.com
SUMMARY:Archery Central - Trad League
DESCRIPTION:Stick & Sage is located approx. 3 miles north of the intersection of Highway 20 and Scout Lake road near Camp Sherman. Heading East: 3 miles past Suttle Lake Lodge turn left at sign. Heading West: 1/4 mile past Metolius/Camp Sherman road turn right at sign. For more info contact: Ed @ 541-647-0114.
URL:https://idahotraditionalbowhunters.com/events/archery-central-trad-league-6/
LOCATION:Archery Central\, 6611 Cleveland Blvd\, Caldwell\, ID\, 83607\, United States
CATEGORIES:Traditional Archery Shoot
ATTACH;FMTTYPE=image/jpeg:https://idahotraditionalbowhunters.com/wp-content/uploads/2025/11/Archery-Central-Tuesday-Trad-League-2025.jpg
ORGANIZER;CN="Archery Central":MAILTO:archerycentral@yahoo.com
END:VEVENT
BEGIN:VEVENT
DTSTART;TZID=America/Boise:20251209T190000
DTEND;TZID=America/Boise:20251209T203000
DTSTAMP:20260422T064516
CREATED:20251113T234312Z
LAST-MODIFIED:20251113T234312Z
UID:6910-1765306800-1765312200@idahotraditionalbowhunters.com
SUMMARY:Archery Central - Trad League
DESCRIPTION:Stick & Sage is located approx. 3 miles north of the intersection of Highway 20 and Scout Lake road near Camp Sherman. Heading East: 3 miles past Suttle Lake Lodge turn left at sign. Heading West: 1/4 mile past Metolius/Camp Sherman road turn right at sign. For more info contact: Ed @ 541-647-0114.
URL:https://idahotraditionalbowhunters.com/events/archery-central-trad-league-5/
LOCATION:Archery Central\, 6611 Cleveland Blvd\, Caldwell\, ID\, 83607\, United States
CATEGORIES:Traditional Archery Shoot
ATTACH;FMTTYPE=image/jpeg:https://idahotraditionalbowhunters.com/wp-content/uploads/2025/11/Archery-Central-Tuesday-Trad-League-2025.jpg
ORGANIZER;CN="Archery Central":MAILTO:archerycentral@yahoo.com
END:VEVENT
BEGIN:VEVENT
DTSTART;TZID=America/Boise:20251202T190000
DTEND;TZID=America/Boise:20251202T203000
DTSTAMP:20260422T064516
CREATED:20251113T234121Z
LAST-MODIFIED:20251113T234323Z
UID:6907-1764702000-1764707400@idahotraditionalbowhunters.com
SUMMARY:Archery Central - Trad League
DESCRIPTION:Stick & Sage is located approx. 3 miles north of the intersection of Highway 20 and Scout Lake road near Camp Sherman. Heading East: 3 miles past Suttle Lake Lodge turn left at sign. Heading West: 1/4 mile past Metolius/Camp Sherman road turn right at sign. For more info contact: Ed @ 541-647-0114.
URL:https://idahotraditionalbowhunters.com/events/archery-central-trad-league-4/
LOCATION:Archery Central\, 6611 Cleveland Blvd\, Caldwell\, ID\, 83607\, United States
CATEGORIES:Traditional Archery Shoot
ATTACH;FMTTYPE=image/jpeg:https://idahotraditionalbowhunters.com/wp-content/uploads/2025/11/Archery-Central-Tuesday-Trad-League-2025.jpg
ORGANIZER;CN="Archery Central":MAILTO:archerycentral@yahoo.com
END:VEVENT
BEGIN:VEVENT
DTSTART;TZID=America/Boise:20251125T190000
DTEND;TZID=America/Boise:20251125T203000
DTSTAMP:20260422T064516
CREATED:20251113T234045Z
LAST-MODIFIED:20251113T235136Z
UID:6904-1764097200-1764102600@idahotraditionalbowhunters.com
SUMMARY:Archery Central - Trad League
DESCRIPTION:Stick & Sage is located approx. 3 miles north of the intersection of Highway 20 and Scout Lake road near Camp Sherman. Heading East: 3 miles past Suttle Lake Lodge turn left at sign. Heading West: 1/4 mile past Metolius/Camp Sherman road turn right at sign. For more info contact: Ed @ 541-647-0114.
URL:https://idahotraditionalbowhunters.com/events/archery-central-trad-league-3/
LOCATION:Archery Central\, 6611 Cleveland Blvd\, Caldwell\, ID\, 83607\, United States
CATEGORIES:Traditional Archery Shoot
ATTACH;FMTTYPE=image/jpeg:https://idahotraditionalbowhunters.com/wp-content/uploads/2025/11/Archery-Central-Tuesday-Trad-League-2025.jpg
ORGANIZER;CN="Archery Central":MAILTO:archerycentral@yahoo.com
END:VEVENT
BEGIN:VEVENT
DTSTART;TZID=America/Boise:20251118T190000
DTEND;TZID=America/Boise:20251118T203000
DTSTAMP:20260422T064517
CREATED:20251113T233723Z
LAST-MODIFIED:20251113T234357Z
UID:6893-1763492400-1763497800@idahotraditionalbowhunters.com
SUMMARY:Archery Central - Trad League
DESCRIPTION:Stick & Sage is located approx. 3 miles north of the intersection of Highway 20 and Scout Lake road near Camp Sherman. Heading East: 3 miles past Suttle Lake Lodge turn left at sign. Heading West: 1/4 mile past Metolius/Camp Sherman road turn right at sign. For more info contact: Ed @ 541-647-0114.
URL:https://idahotraditionalbowhunters.com/events/archery-central-trad-league/
LOCATION:Archery Central\, 6611 Cleveland Blvd\, Caldwell\, ID\, 83607\, United States
CATEGORIES:Traditional Archery Shoot
ATTACH;FMTTYPE=image/jpeg:https://idahotraditionalbowhunters.com/wp-content/uploads/2025/11/Archery-Central-Tuesday-Trad-League-2025.jpg
ORGANIZER;CN="Archery Central":MAILTO:archerycentral@yahoo.com
END:VEVENT
BEGIN:VEVENT
DTSTART;TZID=America/Boise:20251118T100000
DTEND;TZID=America/Boise:20251118T160000
DTSTAMP:20260422T064517
CREATED:20251114T000206Z
LAST-MODIFIED:20251114T000721Z
UID:6933-1763460000-1763481600@idahotraditionalbowhunters.com
SUMMARY:WMA Archery Take-Down Day
DESCRIPTION:Stick & Sage is located approx. 3 miles north of the intersection of Highway 20 and Scout Lake road near Camp Sherman. Heading East: 3 miles past Suttle Lake Lodge turn left at sign. Heading West: 1/4 mile past Metolius/Camp Sherman road turn right at sign. For more info contact: Ed @ 541-647-0114.
URL:https://idahotraditionalbowhunters.com/events/wma-archery-take-down-day/
LOCATION:WMA Archery Range\, Highland Valley Ln\, Boise\, ID\, 83716\, United States
CATEGORIES:Public Event
ATTACH;FMTTYPE=image/jpeg:https://idahotraditionalbowhunters.com/wp-content/uploads/2025/11/archery_range_trail_map_with_detail_4.23.19.jpg
END:VEVENT
BEGIN:VEVENT
DTSTART;TZID=America/Boise:20251111T190000
DTEND;TZID=America/Boise:20251111T203000
DTSTAMP:20260422T064517
CREATED:20251113T235012Z
LAST-MODIFIED:20251113T235154Z
UID:6930-1762887600-1762893000@idahotraditionalbowhunters.com
SUMMARY:Archery Central - Trad League
DESCRIPTION:Stick & Sage is located approx. 3 miles north of the intersection of Highway 20 and Scout Lake road near Camp Sherman. Heading East: 3 miles past Suttle Lake Lodge turn left at sign. Heading West: 1/4 mile past Metolius/Camp Sherman road turn right at sign. For more info contact: Ed @ 541-647-0114.
URL:https://idahotraditionalbowhunters.com/events/archery-central-trad-league-11/
LOCATION:Archery Central\, 6611 Cleveland Blvd\, Caldwell\, ID\, 83607\, United States
CATEGORIES:Traditional Archery Shoot
ATTACH;FMTTYPE=image/jpeg:https://idahotraditionalbowhunters.com/wp-content/uploads/2025/11/Archery-Central-Tuesday-Trad-League-2025.jpg
ORGANIZER;CN="Archery Central":MAILTO:archerycentral@yahoo.com
END:VEVENT
BEGIN:VEVENT
DTSTART;TZID=America/Boise:20251104T190000
DTEND;TZID=America/Boise:20251104T203000
DTSTAMP:20260422T064517
CREATED:20251113T234940Z
LAST-MODIFIED:20251113T235120Z
UID:6927-1762282800-1762288200@idahotraditionalbowhunters.com
SUMMARY:Archery Central - Trad League
DESCRIPTION:Stick & Sage is located approx. 3 miles north of the intersection of Highway 20 and Scout Lake road near Camp Sherman. Heading East: 3 miles past Suttle Lake Lodge turn left at sign. Heading West: 1/4 mile past Metolius/Camp Sherman road turn right at sign. For more info contact: Ed @ 541-647-0114.
URL:https://idahotraditionalbowhunters.com/events/archery-central-trad-league-10/
LOCATION:Archery Central\, 6611 Cleveland Blvd\, Caldwell\, ID\, 83607\, United States
CATEGORIES:Traditional Archery Shoot
ATTACH;FMTTYPE=image/jpeg:https://idahotraditionalbowhunters.com/wp-content/uploads/2025/11/Archery-Central-Tuesday-Trad-League-2025.jpg
ORGANIZER;CN="Archery Central":MAILTO:archerycentral@yahoo.com
END:VEVENT
BEGIN:VEVENT
DTSTART;TZID=America/Boise:20251028T190000
DTEND;TZID=America/Boise:20251028T203000
DTSTAMP:20260422T064517
CREATED:20251113T234848Z
LAST-MODIFIED:20251113T235058Z
UID:6924-1761678000-1761683400@idahotraditionalbowhunters.com
SUMMARY:Archery Central - Trad League
DESCRIPTION:Stick & Sage is located approx. 3 miles north of the intersection of Highway 20 and Scout Lake road near Camp Sherman. Heading East: 3 miles past Suttle Lake Lodge turn left at sign. Heading West: 1/4 mile past Metolius/Camp Sherman road turn right at sign. For more info contact: Ed @ 541-647-0114.
URL:https://idahotraditionalbowhunters.com/events/archery-central-trad-league-9/
LOCATION:Archery Central\, 6611 Cleveland Blvd\, Caldwell\, ID\, 83607\, United States
CATEGORIES:Traditional Archery Shoot
ATTACH;FMTTYPE=image/jpeg:https://idahotraditionalbowhunters.com/wp-content/uploads/2025/11/Archery-Central-Tuesday-Trad-League-2025.jpg
ORGANIZER;CN="Archery Central":MAILTO:archerycentral@yahoo.com
END:VEVENT
BEGIN:VEVENT
DTSTART;TZID=America/Boise:20251021T190000
DTEND;TZID=America/Boise:20251021T203000
DTSTAMP:20260422T064517
CREATED:20251113T234807Z
LAST-MODIFIED:20251113T234807Z
UID:6922-1761073200-1761078600@idahotraditionalbowhunters.com
SUMMARY:Archery Central - Trad League
DESCRIPTION:Stick & Sage is located approx. 3 miles north of the intersection of Highway 20 and Scout Lake road near Camp Sherman. Heading East: 3 miles past Suttle Lake Lodge turn left at sign. Heading West: 1/4 mile past Metolius/Camp Sherman road turn right at sign. For more info contact: Ed @ 541-647-0114.
URL:https://idahotraditionalbowhunters.com/events/archery-central-trad-league-8/
LOCATION:Archery Central\, 6611 Cleveland Blvd\, Caldwell\, ID\, 83607\, United States
CATEGORIES:Traditional Archery Shoot
ATTACH;FMTTYPE=image/jpeg:https://idahotraditionalbowhunters.com/wp-content/uploads/2025/11/Archery-Central-Tuesday-Trad-League-2025.jpg
ORGANIZER;CN="Archery Central":MAILTO:archerycentral@yahoo.com
END:VEVENT
BEGIN:VEVENT
DTSTART;TZID=America/Boise:20251014T190000
DTEND;TZID=America/Boise:20251014T203000
DTSTAMP:20260422T064517
CREATED:20251113T234729Z
LAST-MODIFIED:20251113T234729Z
UID:6919-1760468400-1760473800@idahotraditionalbowhunters.com
SUMMARY:Archery Central - Trad League
DESCRIPTION:Stick & Sage is located approx. 3 miles north of the intersection of Highway 20 and Scout Lake road near Camp Sherman. Heading East: 3 miles past Suttle Lake Lodge turn left at sign. Heading West: 1/4 mile past Metolius/Camp Sherman road turn right at sign. For more info contact: Ed @ 541-647-0114.
URL:https://idahotraditionalbowhunters.com/events/archery-central-trad-league-7/
LOCATION:Archery Central\, 6611 Cleveland Blvd\, Caldwell\, ID\, 83607\, United States
CATEGORIES:Traditional Archery Shoot
ATTACH;FMTTYPE=image/jpeg:https://idahotraditionalbowhunters.com/wp-content/uploads/2025/11/Archery-Central-Tuesday-Trad-League-2025.jpg
ORGANIZER;CN="Archery Central":MAILTO:archerycentral@yahoo.com
END:VEVENT
BEGIN:VEVENT
DTSTART;TZID=America/Boise:20251007T190000
DTEND;TZID=America/Boise:20251007T203000
DTSTAMP:20260422T064517
CREATED:20251113T234657Z
LAST-MODIFIED:20251113T234657Z
UID:6916-1759863600-1759869000@idahotraditionalbowhunters.com
SUMMARY:Archery Central - Trad League
DESCRIPTION:Stick & Sage is located approx. 3 miles north of the intersection of Highway 20 and Scout Lake road near Camp Sherman. Heading East: 3 miles past Suttle Lake Lodge turn left at sign. Heading West: 1/4 mile past Metolius/Camp Sherman road turn right at sign. For more info contact: Ed @ 541-647-0114.
URL:https://idahotraditionalbowhunters.com/events/archery-central-trad-league-2/
LOCATION:Archery Central\, 6611 Cleveland Blvd\, Caldwell\, ID\, 83607\, United States
CATEGORIES:Traditional Archery Shoot
ATTACH;FMTTYPE=image/jpeg:https://idahotraditionalbowhunters.com/wp-content/uploads/2025/11/Archery-Central-Tuesday-Trad-League-2025.jpg
ORGANIZER;CN="Archery Central":MAILTO:archerycentral@yahoo.com
END:VEVENT
BEGIN:VEVENT
DTSTART;TZID=America/Boise:20250807T063000
DTEND;TZID=America/Boise:20250807T193000
DTSTAMP:20260422T064517
CREATED:20250703T213637Z
LAST-MODIFIED:20260219T141940Z
UID:5856-1754548200-1754595000@idahotraditionalbowhunters.com
SUMMARY:ITB August Club Meeting 2025
DESCRIPTION:Stick & Sage is located approx. 3 miles north of the intersection of Highway 20 and Scout Lake road near Camp Sherman. Heading East: 3 miles past Suttle Lake Lodge turn left at sign. Heading West: 1/4 mile past Metolius/Camp Sherman road turn right at sign. For more info contact: Ed @ 541-647-0114.
URL:https://idahotraditionalbowhunters.com/events/itb-august-club-meeting-2025/
LOCATION:Digital Meeting
CATEGORIES:ITB Club Meeting
ATTACH;FMTTYPE=image/jpeg:https://idahotraditionalbowhunters.com/wp-content/uploads/2026/01/Club-Meeting-V1-1.jpg
END:VEVENT
BEGIN:VEVENT
DTSTART;VALUE=DATE:20250802
DTEND;VALUE=DATE:20250804
DTSTAMP:20260422T064517
CREATED:20241229T180458Z
LAST-MODIFIED:20250210T153645Z
UID:4342-1754092800-1754265599@idahotraditionalbowhunters.com
SUMMARY:TBW Rendezvous 2025
DESCRIPTION:Stick & Sage is located approx. 3 miles north of the intersection of Highway 20 and Scout Lake road near Camp Sherman. Heading East: 3 miles past Suttle Lake Lodge turn left at sign. Heading West: 1/4 mile past Metolius/Camp Sherman road turn right at sign. For more info contact: Ed @ 541-647-0114.
URL:https://idahotraditionalbowhunters.com/events/tbw-rendezvous-2/
LOCATION:Oregon
CATEGORIES:Traditional Archery Shoot
END:VEVENT
BEGIN:VEVENT
DTSTART;VALUE=DATE:20250726
DTEND;VALUE=DATE:20250728
DTSTAMP:20260422T064517
CREATED:20241229T180424Z
LAST-MODIFIED:20250210T152719Z
UID:4340-1753488000-1753660799@idahotraditionalbowhunters.com
SUMMARY:Pope Young 2025
DESCRIPTION:Stick & Sage is located approx. 3 miles north of the intersection of Highway 20 and Scout Lake road near Camp Sherman. Heading East: 3 miles past Suttle Lake Lodge turn left at sign. Heading West: 1/4 mile past Metolius/Camp Sherman road turn right at sign. For more info contact: Ed @ 541-647-0114.
URL:https://idahotraditionalbowhunters.com/events/pope-young-2/
LOCATION:Brownsville\, Oregon
CATEGORIES:Traditional Archery Shoot
END:VEVENT
BEGIN:VEVENT
DTSTART;VALUE=DATE:20250705
DTEND;VALUE=DATE:20250707
DTSTAMP:20260422T064517
CREATED:20241229T180348Z
LAST-MODIFIED:20250210T153624Z
UID:4338-1751673600-1751846399@idahotraditionalbowhunters.com
SUMMARY:North American Longbow Safari 2025
DESCRIPTION:Stick & Sage is located approx. 3 miles north of the intersection of Highway 20 and Scout Lake road near Camp Sherman. Heading East: 3 miles past Suttle Lake Lodge turn left at sign. Heading West: 1/4 mile past Metolius/Camp Sherman road turn right at sign. For more info contact: Ed @ 541-647-0114.
URL:https://idahotraditionalbowhunters.com/events/north-american-longbow-safari-2/
LOCATION:Oregon
CATEGORIES:Traditional Archery Shoot
END:VEVENT
BEGIN:VEVENT
DTSTART;VALUE=DATE:20250628
DTEND;VALUE=DATE:20250630
DTSTAMP:20260422T064517
CREATED:20241229T180310Z
LAST-MODIFIED:20250623T021745Z
UID:4336-1751068800-1751241599@idahotraditionalbowhunters.com
SUMMARY:Meadows Valley Traditional Rendezvous 2025
DESCRIPTION:Stick & Sage is located approx. 3 miles north of the intersection of Highway 20 and Scout Lake road near Camp Sherman. Heading East: 3 miles past Suttle Lake Lodge turn left at sign. Heading West: 1/4 mile past Metolius/Camp Sherman road turn right at sign. For more info contact: Ed @ 541-647-0114.
URL:https://idahotraditionalbowhunters.com/events/meadows-valley-traditional-rendezvous-2/
LOCATION:New Meadows\, ID\, New Meadows\, ID\, 83654\, United States
CATEGORIES:Traditional Archery Shoot
ATTACH;FMTTYPE=image/jpeg:https://idahotraditionalbowhunters.com/wp-content/uploads/2024/12/Meadow-Valley-Traditional-Rendezvous-2025-Flyer-V1.jpg
END:VEVENT
BEGIN:VEVENT
DTSTART;VALUE=DATE:20250614
DTEND;VALUE=DATE:20250616
DTSTAMP:20260422T064517
CREATED:20241229T180225Z
LAST-MODIFIED:20251113T234224Z
UID:4334-1749859200-1750031999@idahotraditionalbowhunters.com
SUMMARY:North Idaho Traditional Father's Day Rendezvous 2025
DESCRIPTION:Stick & Sage is located approx. 3 miles north of the intersection of Highway 20 and Scout Lake road near Camp Sherman. Heading East: 3 miles past Suttle Lake Lodge turn left at sign. Heading West: 1/4 mile past Metolius/Camp Sherman road turn right at sign. For more info contact: Ed @ 541-647-0114.
URL:https://idahotraditionalbowhunters.com/events/north-idaho-traditional-fathers-day-rendezvous-3/
LOCATION:Moyie Springs\, Idaho
CATEGORIES:Traditional Archery Shoot
ATTACH;FMTTYPE=image/jpeg:https://idahotraditionalbowhunters.com/wp-content/uploads/2024/12/472764392_1040998641398774_3919595521828630635_n.jpg
END:VEVENT
BEGIN:VEVENT
DTSTART;VALUE=DATE:20250614
DTEND;VALUE=DATE:20250616
DTSTAMP:20260422T064517
CREATED:20241229T180133Z
LAST-MODIFIED:20250325T215640Z
UID:4332-1749859200-1750031999@idahotraditionalbowhunters.com
SUMMARY:Rendezvous at the River 2025
DESCRIPTION:Stick & Sage is located approx. 3 miles north of the intersection of Highway 20 and Scout Lake road near Camp Sherman. Heading East: 3 miles past Suttle Lake Lodge turn left at sign. Heading West: 1/4 mile past Metolius/Camp Sherman road turn right at sign. For more info contact: Ed @ 541-647-0114.
URL:https://idahotraditionalbowhunters.com/events/rendezvous-at-the-river-2/
LOCATION:La Grande Rifle & Pistol Club\, 56758 Oregon Hwy 244\, La Grande\, OR\, 97850\, United States
CATEGORIES:Traditional Archery Shoot
ATTACH;FMTTYPE=image/png:https://idahotraditionalbowhunters.com/wp-content/uploads/2024/12/IMG_20250325_155520.png
END:VEVENT
END:VCALENDAR